BEGIN:VCALENDAR
VERSION:2.0
PRODID:-//Lindeverlag//Lucee//DE
CALSCALE:GREGORIAN
METHOD:PUBLISH
TZID:W. Europe Standard Time
BEGIN:VTIMEZONE
BEGIN:STANDARD
DTSTART:16011028T030000
RRULE:FREQ=YEARLY;BYDAY=-1SU;BYMONTH=10
TZOFFSETFROM:+0200
TZOFFSETTO:+0100
END:STANDARD
BEGIN:DAYLIGHT
DTSTART:16010325T020000
RRULE:FREQ=YEARLY;BYDAY=-1SU;BYMONTH=3
TZOFFSETFROM:+0100
TZOFFSETTO:+0200
END:DAYLIGHT
END:VTIMEZONE
BEGIN:VEVENT
UID:2EADE55B-22F5-45FE-B2A7829FE6F83F61-@lindeverlag.at
DTSTAMP:20260416T034501Z
DTSTART;TZID="W. Europe Standard Time":20260416T090000
DTEND;TZID="W. Europe Standard Time":20260416T103000
LOCATION:
TRANSP:TRANSPARENT
SEQUENCE:0
DESCRIPTION:Cybersecurity wird zur Managementpflicht – was jetzt zu tun ist!
URL:https://shop.lindeverlag.at/seminar/das-nisg-2026-in-der-praxis-3799
SUMMARY:Das NISG 2026 in der Praxis
PRIORITY:2
CLASS:PUBLIC
BEGIN:VALARM
TRIGGER:-PT120M
ACTION:DISPLAY
DESCRIPTION:Erinnerung
END:VALARM
END:VEVENT
END:VCALENDAR